BEGIN:VCALENDAR
VERSION:2.0
PRODID:-//EO4Multihazards - ECPv6.15.15//NONSGML v1.0//EN
CALSCALE:GREGORIAN
METHOD:PUBLISH
X-ORIGINAL-URL:https://eo4multihazards.gmv.com
X-WR-CALDESC:Events for EO4Multihazards
REFRESH-INTERVAL;VALUE=DURATION:PT1H
X-Robots-Tag:noindex
X-PUBLISHED-TTL:PT1H
BEGIN:VTIMEZONE
TZID:Europe/Madrid
BEGIN:DAYLIGHT
TZOFFSETFROM:+0100
TZOFFSETTO:+0200
TZNAME:CEST
DTSTART:20220327T010000
END:DAYLIGHT
BEGIN:STANDARD
TZOFFSETFROM:+0200
TZOFFSETTO:+0100
TZNAME:CET
DTSTART:20221030T010000
END:STANDARD
BEGIN:DAYLIGHT
TZOFFSETFROM:+0100
TZOFFSETTO:+0200
TZNAME:CEST
DTSTART:20230326T010000
END:DAYLIGHT
BEGIN:STANDARD
TZOFFSETFROM:+0200
TZOFFSETTO:+0100
TZNAME:CET
DTSTART:20231029T010000
END:STANDARD
BEGIN:DAYLIGHT
TZOFFSETFROM:+0100
TZOFFSETTO:+0200
TZNAME:CEST
DTSTART:20240331T010000
END:DAYLIGHT
BEGIN:STANDARD
TZOFFSETFROM:+0200
TZOFFSETTO:+0100
TZNAME:CET
DTSTART:20241027T010000
END:STANDARD
END:VTIMEZONE
BEGIN:VEVENT
DTSTART;VALUE=DATE:20231204
DTEND;VALUE=DATE:20231208
DTSTAMP:20260422T021106
CREATED:20231213T082739Z
LAST-MODIFIED:20231213T092348Z
UID:1304-1701648000-1701993599@eo4multihazards.gmv.com
SUMMARY:CERIS: Disaster Resilient Societies - Annual Event
DESCRIPTION:Participants: Nicole van Maanen (VU)\, Type of Contribution: Panel
URL:https://eo4multihazards.gmv.com/event/ceris-disaster-resilient-societies-annual-event/
LOCATION:Brussels\, Brussels\, Belgium
END:VEVENT
END:VCALENDAR