BEGIN:VCALENDAR
VERSION:2.0
PRODID:-//EO4Multihazards - ECPv6.15.15//NONSGML v1.0//EN
CALSCALE:GREGORIAN
METHOD:PUBLISH
X-ORIGINAL-URL:https://eo4multihazards.gmv.com
X-WR-CALDESC:Events for EO4Multihazards
REFRESH-INTERVAL;VALUE=DURATION:PT1H
X-Robots-Tag:noindex
X-PUBLISHED-TTL:PT1H
BEGIN:VTIMEZONE
TZID:Europe/Madrid
BEGIN:DAYLIGHT
TZOFFSETFROM:+0100
TZOFFSETTO:+0200
TZNAME:CEST
DTSTART:20230326T010000
END:DAYLIGHT
BEGIN:STANDARD
TZOFFSETFROM:+0200
TZOFFSETTO:+0100
TZNAME:CET
DTSTART:20231029T010000
END:STANDARD
BEGIN:DAYLIGHT
TZOFFSETFROM:+0100
TZOFFSETTO:+0200
TZNAME:CEST
DTSTART:20240331T010000
END:DAYLIGHT
BEGIN:STANDARD
TZOFFSETFROM:+0200
TZOFFSETTO:+0100
TZNAME:CET
DTSTART:20241027T010000
END:STANDARD
BEGIN:DAYLIGHT
TZOFFSETFROM:+0100
TZOFFSETTO:+0200
TZNAME:CEST
DTSTART:20250330T010000
END:DAYLIGHT
BEGIN:STANDARD
TZOFFSETFROM:+0200
TZOFFSETTO:+0100
TZNAME:CET
DTSTART:20251026T010000
END:STANDARD
BEGIN:DAYLIGHT
TZOFFSETFROM:+0100
TZOFFSETTO:+0200
TZNAME:CEST
DTSTART:20260329T010000
END:DAYLIGHT
BEGIN:STANDARD
TZOFFSETFROM:+0200
TZOFFSETTO:+0100
TZNAME:CET
DTSTART:20261025T010000
END:STANDARD
END:VTIMEZONE
BEGIN:VEVENT
DTSTART;VALUE=DATE:20240414
DTEND;VALUE=DATE:20240420
DTSTAMP:20260422T021330
CREATED:20231109T122325Z
LAST-MODIFIED:20240614T110822Z
UID:1131-1713052800-1713571199@eo4multihazards.gmv.com
SUMMARY:EGU
DESCRIPTION:Participants: Carlos Domenech (GMV)\, Type of Contribution: Presentation\nParticipants: Andrea Vianello (EURAC)\, Type of Contribution: Presentation\nParticipants: Luke Bateson (BGS)\, Type of Contribution: Presentation\nParticipants: Philip Ward from (VU)\, Type of Contribution: Poster
URL:https://eo4multihazards.gmv.com/event/egu-2/
LOCATION:Vienna\, Vienna\, Austria
END:VEVENT
BEGIN:VEVENT
DTSTART;VALUE=DATE:20240414
DTEND;VALUE=DATE:20240420
DTSTAMP:20260422T021330
CREATED:20231109T130153Z
LAST-MODIFIED:20231109T130641Z
UID:1155-1713052800-1713571199@eo4multihazards.gmv.com
SUMMARY:First E04MULTIHAZARDS Workshop
DESCRIPTION:Participants: E04MULTIHAZARDS Consortium
URL:https://eo4multihazards.gmv.com/event/first-e04multihazards-workshop/
LOCATION:Vienna\, Vienna\, Austria
END:VEVENT
BEGIN:VEVENT
DTSTART;VALUE=DATE:20240612
DTEND;VALUE=DATE:20240614
DTSTAMP:20260422T021330
CREATED:20231002T142018Z
LAST-MODIFIED:20240614T074709Z
UID:213-1718150400-1718323199@eo4multihazards.gmv.com
SUMMARY:Natural Hazards and Risks in a Changing World: Addressing Compound and Multi-Hazard Risk
DESCRIPTION:3rd International Conference on Natural Hazards and Risk in a Changing World  \n\nParticipants: Roxana Ciurean (BGS)\, Type of Contribution: Poster\nParticipants: Heloisa Fonseca (CMCC)\, Type of Contribution: Poster
URL:https://eo4multihazards.gmv.com/event/natural-hazards-and-risks-in-a-changing-world-addressing-compound-and-multi-hazard-risk/
LOCATION:Amsterdam\, Amsterdam\, Netherlands
END:VEVENT
BEGIN:VEVENT
DTSTART;VALUE=DATE:20240624
DTEND;VALUE=DATE:20240627
DTSTAMP:20260422T021330
CREATED:20240614T074839Z
LAST-MODIFIED:20240614T110935Z
UID:1557-1719187200-1719446399@eo4multihazards.gmv.com
SUMMARY:COMET Conference
DESCRIPTION:Participants: Erin Mills (BGS) \, Type of Contribution: Poster\nParticipants: Annie Winson (BGS) \, Type of Contribution: Poster
URL:https://eo4multihazards.gmv.com/event/comet-conference/
END:VEVENT
BEGIN:VEVENT
DTSTART;VALUE=DATE:20240626
DTEND;VALUE=DATE:20240628
DTSTAMP:20260422T021330
CREATED:20240614T075452Z
LAST-MODIFIED:20240614T110453Z
UID:1560-1719360000-1719532799@eo4multihazards.gmv.com
SUMMARY:UKADR 2024 Conference
DESCRIPTION:UKADR 2024 Conference  \n\nParticipants: Rahman Momeni (GMV)\, Type of Contribution: Poster
URL:https://eo4multihazards.gmv.com/event/ukadr-2024-conference/
LOCATION:London\, London\, United Kingdom
END:VEVENT
BEGIN:VEVENT
DTSTART;VALUE=DATE:20240910
DTEND;VALUE=DATE:20240913
DTSTAMP:20260422T021330
CREATED:20240917T120704Z
LAST-MODIFIED:20240917T120704Z
UID:1665-1725926400-1726185599@eo4multihazards.gmv.com
SUMMARY:National Earth Observation Conference
DESCRIPTION:National Earth Observation Conference \n\nThe presentation was in the EO for Society & Education session\nPresentation title: “The role of Earth Observation in advancing our understanding of high sustained temperature leading to dry condition multi-hazard compound events”\nAuthors: Kay Smith\, Erin Mills\, Annie Winson\, Roxana Ciurean\, Luke Bateson
URL:https://eo4multihazards.gmv.com/event/national-earth-observation-conference/
LOCATION:National STEM centre\, York\, UK\, National STEM centre\, York\, UK\, York\, United Kingdom
END:VEVENT
BEGIN:VEVENT
DTSTART;VALUE=DATE:20240915
DTEND;VALUE=DATE:20240920
DTSTAMP:20260422T021330
CREATED:20240614T075744Z
LAST-MODIFIED:20250526T151419Z
UID:1564-1726358400-1726790399@eo4multihazards.gmv.com
SUMMARY:1st International Conference on Smart Informatics and Multi-hazard Reduction (SIMR 2024)
DESCRIPTION:1st International Conference on Smart Informatics and Multi-hazard Reduction (SIMR 2024) \n\nParticipants: Masina\, M.\, Furlanetto\, J.\, Ferrario\, D. M.\, Maraschini M.\, Fonseca\, H. L.\, Crespi\, A.\, Terzi\, S.\, Pittore\, M.\, Critto\, A.\, Torresan\, S.\, Type of Contribution: Poster
URL:https://eo4multihazards.gmv.com/event/1st-international-conference-on-smart-informatics-and-multi-hazard-reduction-simr-2024/
LOCATION:Loughborough\, Loughborough\, United Kingdom
END:VEVENT
BEGIN:VEVENT
DTSTART;VALUE=DATE:20241023
DTEND;VALUE=DATE:20241027
DTSTAMP:20260422T021330
CREATED:20250922T072833Z
LAST-MODIFIED:20250922T072833Z
UID:1962-1729641600-1729987199@eo4multihazards.gmv.com
SUMMARY:Multi-Hazard DRR Academy
DESCRIPTION:Participants: Erin Mills (BGS)\, Type of Contribution: Poster
URL:https://eo4multihazards.gmv.com/event/multi-hazard-drr-academy/
LOCATION:UPC Barcelona\, Spain\, Carrer de Jordi Girona\, 31\, Les Corts\, 08034 Carrer de Jordi Girona\, 31\, Les Corts\, 08034 Barcelona\, Spain\, Spain\, Barcelona\, Spain
END:VEVENT
BEGIN:VEVENT
DTSTART;VALUE=DATE:20241209
DTEND;VALUE=DATE:20241213
DTSTAMP:20260422T021330
CREATED:20250404T074013Z
LAST-MODIFIED:20250404T074647Z
UID:1763-1733702400-1734047999@eo4multihazards.gmv.com
SUMMARY:GRSG ANNUAL CONFERENCE
DESCRIPTION:GRSG ANNUAL CONFERENCE \n\nParticipants: Luke Bateson (BGS)\, Type of Contribution: Presentation
URL:https://eo4multihazards.gmv.com/event/grsg-annual-conference/
LOCATION:ESRIN\, Frascati\, ESRIN\, Frascati\, Italy
END:VEVENT
BEGIN:VEVENT
DTSTART;VALUE=DATE:20250427
DTEND;VALUE=DATE:20250503
DTSTAMP:20260422T021331
CREATED:20250526T145419Z
LAST-MODIFIED:20250527T073007Z
UID:1843-1745712000-1746230399@eo4multihazards.gmv.com
SUMMARY:EGU25
DESCRIPTION:Participants: Jacopo Furlanetto\, Edoardo Albergo\, Davide Mauro Ferrario\, Marinella Masina\, Margherita Maraschini\, and Silvia Torresan\, Type of Contribution: Presentation – “Combining Earth Observation and AI to advance multi-risk assessment of hot and dry events on crops in the Adige River basin” \nParticipants: Vianello\, A.\, Niknahad\, M.\, Ventura\, B.\, Terzi\, S.\, Renner\, K.\, Jacob\, A.\, and Pittore\, M.\, Type of Contribution: Presentation- The Earth Observation for Multi-Hazard events database and portal”\nParticipants: Lemus-Canovas\, M.\, Crespi\, A.\,  Maines\, E.\, Pittore\, M.\, and Terzi\, S.\, Type of Contribution: Presentation- “Observed and modelled changes in the drivers that trigger compound drought and heatwave events in the Adige River basin (Eastern Italian Alps) with a focus on May 2022”
URL:https://eo4multihazards.gmv.com/event/egu25/
LOCATION:Vienna\, Vienna\, Austria
END:VEVENT
BEGIN:VEVENT
DTSTART;VALUE=DATE:20250519
DTEND;VALUE=DATE:20250521
DTSTAMP:20260422T021331
CREATED:20250425T080854Z
LAST-MODIFIED:20250526T145758Z
UID:1829-1747612800-1747785599@eo4multihazards.gmv.com
SUMMARY:Adige Water Fair
DESCRIPTION:Adige Water Fair \n\nParticipants: Jacopo Furlanetto\, Edoardo Albergo\, Davide Mauro Ferrario\, Marinella Masina\, Margherita Maraschini\, and Silvia Torresan\, Type of Contribution: Pitch talk in the Multi-Risk splinter session\, “Utilizzo di dati satellitari per migliorare le valutazioni Multi-Rischio sul comparto agricolo dovute a siccità e ondate di calore nel Bacino dell’Adige”\n\n \nThe workshop has been attended by around 130 stakeholders from the Adige River Basin.
URL:https://eo4multihazards.gmv.com/event/adige-water-fair/
LOCATION:EURAC\, Bolzano\, Italy\, Viale Druso Drususallee\, 1\, 39100 Bolzano\, Autonome Provinz Bozen - Südtirol\, Italy\, Bolzano\, Italy
END:VEVENT
BEGIN:VEVENT
DTSTART;VALUE=DATE:20250527
DTEND;VALUE=DATE:20250529
DTSTAMP:20260422T021331
CREATED:20250526T150830Z
LAST-MODIFIED:20250526T150901Z
UID:1847-1748304000-1748476799@eo4multihazards.gmv.com
SUMMARY:Workshop ASI (Italian Space Agency)
DESCRIPTION:Workshop ASI (Italian Space Agency): Tecnologie satellitari e analisi multi-rischio: l’esperienza dei progetti I4DP_SCIENCE e prospettive future \n\nParticipants: Davide Mauro Ferrario\, Jacopo Furlanetto\, Edoardo Albergo\, Marinella Masina\, Margherita Maraschini\, Silvia Torresan\, Type of Contribution: Poster – “Harnessing Earth Observation and AI for hot and dry multi-hazard risk assessment: a case study in the Adige River basin”
URL:https://eo4multihazards.gmv.com/event/workshop-asi-italian-space-agency/
LOCATION:Sede ASI di Roma\, Sede ASI di Roma\, Via del Politecnico\, Roma\, Italy
END:VEVENT
BEGIN:VEVENT
DTSTART;VALUE=DATE:20250612
DTEND;VALUE=DATE:20250613
DTSTAMP:20260422T021331
CREATED:20250922T073104Z
LAST-MODIFIED:20250922T073104Z
UID:1964-1749686400-1749772799@eo4multihazards.gmv.com
SUMMARY:MEDiate DSS Workshop with Essex County Council
DESCRIPTION:Participants: Roxana Ciurean\, Erin Mills (BGS)\, Gianluca Pescaroli (UCL)\, Type of Contribution: Presentation
URL:https://eo4multihazards.gmv.com/event/mediate-dss-workshop-with-essex-county-council/
LOCATION:Anglia Ruskin University\, Anglia Ruskin University\, East Rd\, Cambridge CB1 1PT\, United Kingdom\, Cambridge\, United Kingdom
END:VEVENT
BEGIN:VEVENT
DTSTART;VALUE=DATE:20250629
DTEND;VALUE=DATE:20250705
DTSTAMP:20260422T021331
CREATED:20250425T081606Z
LAST-MODIFIED:20250425T081621Z
UID:1831-1751155200-1751673599@eo4multihazards.gmv.com
SUMMARY:IAVCEI Scientific Assembly 2025
DESCRIPTION:
URL:https://eo4multihazards.gmv.com/event/iavcei-scientific-assembly-2025/
LOCATION:Geneva\, Switzerland\, Geneva\, Switzerland
END:VEVENT
BEGIN:VEVENT
DTSTART;VALUE=DATE:20250919
DTEND;VALUE=DATE:20250920
DTSTAMP:20260422T021331
CREATED:20250922T073358Z
LAST-MODIFIED:20250922T073358Z
UID:1966-1758240000-1758326399@eo4multihazards.gmv.com
SUMMARY:EO4MH x Essex County Council Capacity Training Workshop
DESCRIPTION:Participants: Roxana Ciurean\, Erin Mills\, Kay Smith\, Luke Bateson & Alessandro Novellino\, Type of Contribution: Delivery of a half day training course on EO data products\, EO4MH project methodologies and multi-hazard-risk assessments
URL:https://eo4multihazards.gmv.com/event/eo4mh-x-essex-county-council-capacity-training-workshop/
LOCATION:Online
END:VEVENT
BEGIN:VEVENT
DTSTART;VALUE=DATE:20250928
DTEND;VALUE=DATE:20251002
DTSTAMP:20260422T021331
CREATED:20250918T071850Z
LAST-MODIFIED:20250918T073026Z
UID:1942-1759017600-1759363199@eo4multihazards.gmv.com
SUMMARY:The 15th International Conference of the Integrated Disaster Risk Management (IDRiM) Society
DESCRIPTION:Participants: Mariya Sunil (UT-ITC)\, Malavika Manoj (UT-ITC)\, Type of Contribution: Presentations\nPresentation titles:\n\nA Framework to Quantify the Impacts of Multi-Hazard Interactions\nScenario-Based Urban Growth Modelling for Dominica Island
URL:https://eo4multihazards.gmv.com/event/the-15th-international-conference-of-the-integrated-disaster-risk-management-idrim-society/
LOCATION:Samos Island\, Greece\, Samos Island\, Greece\, Greece
END:VEVENT
BEGIN:VEVENT
DTSTART;VALUE=DATE:20251022
DTEND;VALUE=DATE:20251024
DTSTAMP:20260422T021331
CREATED:20250918T071245Z
LAST-MODIFIED:20250918T073118Z
UID:1932-1761091200-1761263999@eo4multihazards.gmv.com
SUMMARY:4D Dynamic Earth: Towards a digital Twin of the Solid Earth
DESCRIPTION:Participants: UT-ITC\, Type of Contribution: Presentation\nPresentation title: Geo-Twin: Enhancing Flood Risk Management Through 3D Digital Twin
URL:https://eo4multihazards.gmv.com/event/4d-dynamic-earth-towards-a-digital-twin-of-the-solid-earth/
LOCATION:TUDelft\, Mekelweg 5\, 2628 CD Delft\, Netherlands\, Delft\, Netherlands
END:VEVENT
BEGIN:VEVENT
DTSTART;VALUE=DATE:20251105
DTEND;VALUE=DATE:20251106
DTSTAMP:20260422T021331
CREATED:20250918T071554Z
LAST-MODIFIED:20250918T073105Z
UID:1940-1762300800-1762387199@eo4multihazards.gmv.com
SUMMARY:Climate event
DESCRIPTION:Participants: UT-ITC\, Type of Contribution: Presentation\nPresentation title: Geo-Twin: Enhancing Flood Risk Management Through 3D Digital Twin
URL:https://eo4multihazards.gmv.com/event/climate-event/
LOCATION:University of Twente\, Drienerlolaan 5\, 7522 NB Enschede\, Netherlands\, Enschede\, Netherlands
END:VEVENT
END:VCALENDAR