BEGIN:VCALENDAR
VERSION:2.0
PRODID:-//EO4Multihazards - ECPv6.15.15//NONSGML v1.0//EN
CALSCALE:GREGORIAN
METHOD:PUBLISH
X-WR-CALNAME:EO4Multihazards
X-ORIGINAL-URL:https://eo4multihazards.gmv.com
X-WR-CALDESC:Events for EO4Multihazards
REFRESH-INTERVAL;VALUE=DURATION:PT1H
X-Robots-Tag:noindex
X-PUBLISHED-TTL:PT1H
BEGIN:VTIMEZONE
TZID:Europe/Madrid
BEGIN:DAYLIGHT
TZOFFSETFROM:+0100
TZOFFSETTO:+0200
TZNAME:CEST
DTSTART:20230326T010000
END:DAYLIGHT
BEGIN:STANDARD
TZOFFSETFROM:+0200
TZOFFSETTO:+0100
TZNAME:CET
DTSTART:20231029T010000
END:STANDARD
BEGIN:DAYLIGHT
TZOFFSETFROM:+0100
TZOFFSETTO:+0200
TZNAME:CEST
DTSTART:20240331T010000
END:DAYLIGHT
BEGIN:STANDARD
TZOFFSETFROM:+0200
TZOFFSETTO:+0100
TZNAME:CET
DTSTART:20241027T010000
END:STANDARD
BEGIN:DAYLIGHT
TZOFFSETFROM:+0100
TZOFFSETTO:+0200
TZNAME:CEST
DTSTART:20250330T010000
END:DAYLIGHT
BEGIN:STANDARD
TZOFFSETFROM:+0200
TZOFFSETTO:+0100
TZNAME:CET
DTSTART:20251026T010000
END:STANDARD
END:VTIMEZONE
BEGIN:VEVENT
DTSTART;VALUE=DATE:20240108
DTEND;VALUE=DATE:20240110
DTSTAMP:20260422T020943
CREATED:20231109T125516Z
LAST-MODIFIED:20231109T130656Z
UID:1147-1704672000-1704844799@eo4multihazards.gmv.com
SUMMARY:Consortium Science Meeting
DESCRIPTION:Participants: E04MULTIHAZARDS Consortium
URL:https://eo4multihazards.gmv.com/event/consortium-science-meeting/
LOCATION:Amsterdam\, Amsterdam\, Netherlands
END:VEVENT
END:VCALENDAR